BEGIN:VCALENDAR
VERSION:2.0
PRODID:-//wp-events-plugin.com//7.2.3//EN
BEGIN:VEVENT
UID:257@club41italia.it
DTSTART;TZID=Europe/Rome;VALUE=DATE:20261023
DTEND;TZID=Europe/Rome;VALUE=DATE:20261026
DTSTAMP:20260329T155828Z
URL:https://www.club41italia.it/eventi/half-year-meeting-2026/
SUMMARY:Half Year Meeting 2026
DESCRIPTION:La città di Ascoli Piceno si prepara ad accogliere l'edizione 
 2026 dell'Half Year Meeting del Club 41 Italia dal 23 al 25 ottobre con l'
 Assemblea e la Festa delle Regioni sabato 24 ottobre.
ATTACH;FMTTYPE=image/jpeg:https://www.club41italia.it/wp-content/uploads/2
 025/08/club41italia.png
END:VEVENT
BEGIN:VTIMEZONE
TZID:Europe/Rome
X-LIC-LOCATION:Europe/Rome
BEGIN:DAYLIGHT
DTSTART:20260329T030000
TZOFFSETFROM:+0100
TZOFFSETTO:+0200
TZNAME:CEST
END:DAYLIGHT
BEGIN:STANDARD
DTSTART:20261025T020000
TZOFFSETFROM:+0200
TZOFFSETTO:+0100
TZNAME:CET
END:STANDARD
END:VTIMEZONE
END:VCALENDAR