BEGIN:VCALENDAR
VERSION:2.0
PRODID:-//wp-events-plugin.com//7.2.3//EN
BEGIN:VEVENT
UID:238@club41italia.it
DTSTART;TZID=Europe/Rome:20260220T193000
DTEND;TZID=Europe/Rome:20260220T233000
DTSTAMP:20260206T160817Z
URL:https://www.club41italia.it/eventi/mantova-mangia-pensa-scopa/
SUMMARY:MANTOVA - Mangia\, pensa\, scopa
DESCRIPTION:Una serata che unisce quattro donne e quattro professioni\, con
  un unico grande obiettivo: far vivere un’esperienza multisensoriale.\nU
 n viaggio tra gusto\, parole ed emozioni.\nNon sarà una semplice cena\, m
 a un percorso da attraversare con tutti i sensi.\nUn’occasione per nutri
 re non solo il corpo\, ma anche la mente e le relazioni\, tra sapori\, par
 ole e condivisione.\nUna cena che non è solo da assaporare… ma da viver
 e.\nCibo e sessualità si intrecceranno attraverso testi letterari\, rifle
 ssioni e suggestioni\, dando vita a un dialogo profondo tra corpo\, mente 
 ed emozioni.\nUn’esperienza unica e autentica\, l’unica vera richiesta
 ? Mettersi in gioco.
ATTACH;FMTTYPE=image/jpeg:https://www.club41italia.it/wp-content/uploads/2
 026/02/C41-Mantova_20022026.jpeg
LOCATION:Ciòcàpiat\, via Aldo Moro 8\, Porto Mantovano\, MN\, 46047\, Ita
 lia
GEO:45.169766;10.842642
X-APPLE-STRUCTURED-LOCATION;VALUE=URI;X-ADDRESS=via Aldo Moro 8\, Porto Man
 tovano\, MN\, 46047\, Italia;X-APPLE-RADIUS=100;X-TITLE=Ciòcàpiat:geo:45
 .169766,10.842642
END:VEVENT
BEGIN:VTIMEZONE
TZID:Europe/Rome
X-LIC-LOCATION:Europe/Rome
BEGIN:STANDARD
DTSTART:20251026T020000
TZOFFSETFROM:+0200
TZOFFSETTO:+0100
TZNAME:CET
END:STANDARD
END:VTIMEZONE
END:VCALENDAR