BEGIN:VCALENDAR
VERSION:2.0
PRODID:-//wp-events-plugin.com//7.2.3//EN
BEGIN:VEVENT
UID:246@club41italia.it
DTSTART;TZID=Europe/Rome:20260418T100000
DTEND;TZID=Europe/Rome:20260418T120000
DTSTAMP:20260308T164723Z
URL:https://www.club41italia.it/eventi/mostra-sul-barocco-ai-musei-di-san-
 domenico/
SUMMARY:FORLI: Mostra sul Barocco ai Musei di San Domenico
DESCRIPTION:Anche quest'anno il Club 41 di Forlì\, in InterClub con il Clu
 b 41 di Rimini organizza la visita ai Musei di San Domenico\, la mostra è
  sul Barocco\, il Gran Teatro delle idee.\n\nInformazioni sulla mostra htt
 ps://mostremuseisandomenico.it/archivio/2024-2029/barocco/ \n\nPer ulteri
 ori informazioni contattate Ugo al 335 343771
ATTACH;FMTTYPE=image/jpeg:https://www.club41italia.it/wp-content/uploads/2
 026/02/Logo-Club-41-Forli-in-alta-risoluzione.jpg
LOCATION:Musei San Domenico\,  P.le Guido da Montefeltro\, 12\, Forli\, fc\
 , 47121\, Italia
GEO:44.221376;12.035809
X-APPLE-STRUCTURED-LOCATION;VALUE=URI;X-ADDRESS= P.le Guido da Montefeltro\
 , 12\, Forli\, fc\, 47121\, Italia;X-APPLE-RADIUS=100;X-TITLE=Musei San Do
 menico:geo:44.221376,12.035809
END:VEVENT
BEGIN:VTIMEZONE
TZID:Europe/Rome
X-LIC-LOCATION:Europe/Rome
BEGIN:DAYLIGHT
DTSTART:20260329T030000
TZOFFSETFROM:+0100
TZOFFSETTO:+0200
TZNAME:CEST
END:DAYLIGHT
END:VTIMEZONE
END:VCALENDAR