BEGIN:VCALENDAR
VERSION:2.0
PRODID:-//wp-events-plugin.com//7.2.3//EN
BEGIN:VEVENT
UID:265@club41italia.it
DTSTART;TZID=Europe/Rome:20260522T183000
DTEND;TZID=Europe/Rome:20260522T223000
DTSTAMP:20260411T152219Z
URL:https://www.club41italia.it/eventi/napoli-presentazione-del-libro-lo-s
 tradivari-senza-voce/
SUMMARY:NAPOLI - Presentazione del libro "Lo Stradivari senza voce"
DESCRIPTION:Il Club 41 Napoli ha il piacere di invitarvi alla presentazione
  del libro "Lo Stradivari senza voce" di Emanuela Rastrelli. Oltre all'aut
 rice interverranno Francesco Senese\, vicePresidente Round Table Italia e 
 Francesco Esposito\, Presidente Round Table 18 Napoli. A moderare l'incont
 ro il Presidente del Club 41 Napoli Paolo Di Lauro.
ATTACH;FMTTYPE=image/jpeg:https://www.club41italia.it/wp-content/uploads/2
 026/04/DEM_STRADIVARI_SENZA_VOCE_NAPOLI_page-0001.jpg
LOCATION:Università eCampus Napoli\, via Ponte di Tappia\, 47\, Napoli\, N
 A\, Italia
GEO:40.841192;14.249901
X-APPLE-STRUCTURED-LOCATION;VALUE=URI;X-ADDRESS=via Ponte di Tappia\, 47\, 
 Napoli\, NA\, Italia;X-APPLE-RADIUS=100;X-TITLE=Università eCampus Napoli
 :geo:40.841192,14.249901
END:VEVENT
BEGIN:VTIMEZONE
TZID:Europe/Rome
X-LIC-LOCATION:Europe/Rome
BEGIN:DAYLIGHT
DTSTART:20260329T030000
TZOFFSETFROM:+0100
TZOFFSETTO:+0200
TZNAME:CEST
END:DAYLIGHT
END:VTIMEZONE
END:VCALENDAR