BEGIN:VCALENDAR
VERSION:2.0
PRODID:-//wp-events-plugin.com//7.2.3//EN
BEGIN:VEVENT
UID:240@club41italia.it
DTSTART;TZID=Europe/Rome:20260213T200000
DTEND;TZID=Europe/Rome:20260213T230000
DTSTAMP:20260206T161920Z
URL:https://www.club41italia.it/eventi/teramo-cena-e-festa-di-carnevale/
SUMMARY:TERAMO - Cena e festa di carnevale
DESCRIPTION:Il Club 41 Teramo organizza la propria festa di carnevale con u
 n menù ricco di sapore e specialità del territorio. Gradite le maschere!
ATTACH;FMTTYPE=image/jpeg:https://www.club41italia.it/wp-content/uploads/2
 026/02/C41-Teramo-13022026.jpeg
LOCATION:ristorante Da Nonna Lea\, via S. Simplicio 21\, Ancarano\, TE\, 64
 010\, Italia
GEO:42.838483;13.752665
X-APPLE-STRUCTURED-LOCATION;VALUE=URI;X-ADDRESS=via S. Simplicio 21\, Ancar
 ano\, TE\, 64010\, Italia;X-APPLE-RADIUS=100;X-TITLE=ristorante Da Nonna L
 ea:geo:42.838483,13.752665
END:VEVENT
BEGIN:VTIMEZONE
TZID:Europe/Rome
X-LIC-LOCATION:Europe/Rome
BEGIN:STANDARD
DTSTART:20251026T020000
TZOFFSETFROM:+0200
TZOFFSETTO:+0100
TZNAME:CET
END:STANDARD
END:VTIMEZONE
END:VCALENDAR